BEGIN:VCALENDAR
PRODID:-//kirchenweb.ch gmbh//veranstaltungsausgabe v2.0//DE
VERSION:2.0
METHOD:PUBLISH
BEGIN:VEVENT
DTSTART:20261220T100000Z
DTEND:20261220T110000Z
LOCATION:Tramelan\, Eglise\, Grand-Rue 146\, 2720 Tramelan
TRANSP:OPAQUE
SEQUENCE:0
UID:15655-veranstaltung@par8.ch
DTSTAMP:20260304T134537Z
DESCRIPTION:Kontakt: Service de taxi depuis Tramelan : appel le jour même
  entre 9h et 10h au \n\nWeitere Infos:
  https://www.par8.ch/veranstaltung/15655
SUMMARY:Culte à l'église de Tramelan
PRIORITY:5
X-MICROSOFT-CDO-IMPORTANCE:1
CLASS:PUBLIC
END:VEVENT
END:VCALENDAR
