BEGIN:VCALENDAR
PRODID:-//kirchenweb.ch gmbh//veranstaltungsausgabe v2.0//DE
VERSION:2.0
METHOD:PUBLISH
BEGIN:VEVENT
DTSTART:20260920T090000Z
DTEND:20260920T100000Z
LOCATION:Court\, Eglise\, Rue du Temple\, 2738 Court
TRANSP:OPAQUE
SEQUENCE:0
UID:15608-veranstaltung@par8.ch
DTSTAMP:20260113T125328Z
DESCRIPTION:Kontakt: modeles.communs@par8.ch\n\nWeitere Infos:
  https://www.par8.ch/veranstaltung/15608
SUMMARY:Culte au temple de Court
PRIORITY:5
X-MICROSOFT-CDO-IMPORTANCE:1
CLASS:PUBLIC
END:VEVENT
END:VCALENDAR
