BEGIN:VCALENDAR
PRODID:-//kirchenweb.ch gmbh//veranstaltungsausgabe v2.0//DE
VERSION:2.0
METHOD:PUBLISH
BEGIN:VEVENT
DTSTART:20260920T080000Z
DTEND:20260920T090000Z
LOCATION:Haute-Birse\, Eglise\, Rue du Petit-Bâle\, 2710 Tavannes
TRANSP:OPAQUE
SEQUENCE:0
UID:15607-veranstaltung@par8.ch
DTSTAMP:20260226T102902Z
DESCRIPTION:Kontakt: Thierry Dominicé\n\nWeitere Infos:
  https://www.par8.ch/veranstaltung/15607
SUMMARY:Culte de rentrée KT cycle 1 au temple de Tavannes
PRIORITY:5
X-MICROSOFT-CDO-IMPORTANCE:1
CLASS:PUBLIC
END:VEVENT
END:VCALENDAR
