BEGIN:VCALENDAR
PRODID:-//kirchenweb.ch gmbh//veranstaltungsausgabe v2.0//DE
VERSION:2.0
METHOD:PUBLISH
BEGIN:VEVENT
DTSTART:20260621T080000Z
DTEND:20260621T090000Z
LOCATION:Bévilard\, Temple\, Rue du Temple\, 2735 Bévilard
TRANSP:OPAQUE
SEQUENCE:0
UID:15562-veranstaltung@par8.ch
DTSTAMP:20251113T151643Z
DESCRIPTION:Kontakt: Sandra Singh\n\nWeitere Infos:
  https://www.par8.ch/veranstaltung/15562
SUMMARY:Culte au temple de Bévilard - Dimanche des Réfugiés
PRIORITY:5
X-MICROSOFT-CDO-IMPORTANCE:1
CLASS:PUBLIC
END:VEVENT
END:VCALENDAR
