BEGIN:VCALENDAR
PRODID:-//kirchenweb.ch gmbh//veranstaltungsausgabe v2.0//DE
VERSION:2.0
METHOD:PUBLISH
BEGIN:VEVENT
DTSTART:20260621T080000Z
DTEND:20260621T090000Z
LOCATION:Haute-Birse\, Eglise de Chaindon\, Route de Chaindon\, 2732
  Reconvilier
TRANSP:OPAQUE
SEQUENCE:0
UID:15561-veranstaltung@par8.ch
DTSTAMP:20260226T095758Z
DESCRIPTION:Kontakt: Thierry Dominicé\n\nWeitere Infos:
  https://www.par8.ch/veranstaltung/15561
SUMMARY:Culte fermeture du KT cycle 1 à l'église de Chaindon
PRIORITY:5
X-MICROSOFT-CDO-IMPORTANCE:1
CLASS:PUBLIC
END:VEVENT
END:VCALENDAR
