BEGIN:VCALENDAR
PRODID:-//kirchenweb.ch gmbh//veranstaltungsausgabe v2.0//DE
VERSION:2.0
METHOD:PUBLISH
BEGIN:VEVENT
DTSTART:20260514T080000Z
DTEND:20260514T090000Z
LOCATION:Haute-Birse\, Eglise de Chaindon\, Route de Chaindon\, 2732
  Reconvilier
TRANSP:OPAQUE
SEQUENCE:0
UID:15541-veranstaltung@par8.ch
DTSTAMP:20260422T064358Z
DESCRIPTION:Le culte sera suivi d'un apéritif\n\nKontakt: Service de taxi
  depuis Tramelan\, appel le jour même entre 8h et 9h au 032 487 46 75\n
 \nWeitere Infos: https://www.par8.ch/veranstaltung/15541
SUMMARY:Culte Par8 de l'Ascension à l'église de Chaindon
PRIORITY:5
X-MICROSOFT-CDO-IMPORTANCE:1
CLASS:PUBLIC
END:VEVENT
END:VCALENDAR
