BEGIN:VCALENDAR
PRODID:-//kirchenweb.ch gmbh//veranstaltungsausgabe v2.0//DE
VERSION:2.0
METHOD:PUBLISH
BEGIN:VEVENT
DTSTART:20260510T080000Z
DTEND:20260510T090000Z
LOCATION:Grandval. Eglise\, Rue de l’Eglise\, 2745 Grandval
TRANSP:OPAQUE
SEQUENCE:0
UID:15540-veranstaltung@par8.ch
DTSTAMP:20260217T122551Z
DESCRIPTION:Kontakt: Liliane Gujer\n\nWeitere Infos:
  https://www.par8.ch/veranstaltung/15540
SUMMARY:Culte de l'amitié avec les allémanique au temple de Grandval
PRIORITY:5
X-MICROSOFT-CDO-IMPORTANCE:1
CLASS:PUBLIC
END:VEVENT
END:VCALENDAR
