BEGIN:VCALENDAR
PRODID:-//kirchenweb.ch gmbh//veranstaltungsausgabe v2.0//DE
VERSION:2.0
METHOD:PUBLISH
BEGIN:VEVENT
DTSTART:20260510T073000Z
DTEND:20260510T083000Z
LOCATION:Haute-Birse\, Eglise de Chaindon\, Route de Chaindon\, 2732
  Reconvilier
TRANSP:OPAQUE
SEQUENCE:0
UID:15538-veranstaltung@par8.ch
DTSTAMP:20260422T063024Z
DESCRIPTION:Culte avec baptême\, suivi d'un apéritif\n\nKontakt:
  Caroline Witschi\n\nWeitere Infos:
  https://www.par8.ch/veranstaltung/15538
SUMMARY:Culte à l'église de Chaindon
PRIORITY:5
X-MICROSOFT-CDO-IMPORTANCE:1
CLASS:PUBLIC
END:VEVENT
END:VCALENDAR
