BEGIN:VCALENDAR
PRODID:-//kirchenweb.ch gmbh//veranstaltungsausgabe v2.0//DE
VERSION:2.0
METHOD:PUBLISH
BEGIN:VEVENT
DTSTART:20260503T090000Z
DTEND:20260503T100000Z
LOCATION:Court\, Eglise\, Rue du Temple\, 2738 Court
TRANSP:OPAQUE
SEQUENCE:0
UID:15536-veranstaltung@par8.ch
DTSTAMP:20260317T154550Z
DESCRIPTION:Kontakt: Alexandre Gottet\n\nWeitere Infos:
  https://www.par8.ch/veranstaltung/15536
SUMMARY:Culte au temple de Court
PRIORITY:5
X-MICROSOFT-CDO-IMPORTANCE:1
CLASS:PUBLIC
END:VEVENT
END:VCALENDAR
