BEGIN:VCALENDAR
PRODID:-//kirchenweb.ch gmbh//veranstaltungsausgabe v2.0//DE
VERSION:2.0
METHOD:PUBLISH
BEGIN:VEVENT
DTSTART:20260503T073000Z
DTEND:20260503T083000Z
LOCATION:Moutier\, Collégiale St Germain\, Ruelle du Château\, 2740
  Moutier
TRANSP:OPAQUE
SEQUENCE:0
UID:15535-veranstaltung@par8.ch
DTSTAMP:20260317T163712Z
DESCRIPTION:Kontakt: Alexandre Gottet\n\nWeitere Infos:
  https://www.par8.ch/veranstaltung/15535
SUMMARY:Culte à la Collégiale de Moutier
PRIORITY:5
X-MICROSOFT-CDO-IMPORTANCE:1
CLASS:PUBLIC
END:VEVENT
END:VCALENDAR
