BEGIN:VCALENDAR
PRODID:-//kirchenweb.ch gmbh//veranstaltungsausgabe v2.0//DE
VERSION:2.0
METHOD:PUBLISH
BEGIN:VEVENT
DTSTART:20260503T073000Z
DTEND:20260503T083000Z
LOCATION:Haute-Birse\, Eglise\, Rue du Petit-Bâle\, 2710 Tavannes
TRANSP:OPAQUE
SEQUENCE:0
UID:15534-veranstaltung@par8.ch
DTSTAMP:20260327T095443Z
DESCRIPTION:Kontakt: Marie-Laure Kraft Golay\n\nWeitere Infos:
  https://www.par8.ch/veranstaltung/15534
SUMMARY:Culte au temple de Tavannes
PRIORITY:5
X-MICROSOFT-CDO-IMPORTANCE:1
CLASS:PUBLIC
END:VEVENT
END:VCALENDAR
