BEGIN:VCALENDAR
PRODID:-//kirchenweb.ch gmbh//veranstaltungsausgabe v2.0//DE
VERSION:2.0
METHOD:PUBLISH
BEGIN:VEVENT
DTSTART:20260503T080000Z
DTEND:20260503T090000Z
LOCATION:Sornetan\, Eglise\, Village\, 2716 Sornetan
TRANSP:OPAQUE
SEQUENCE:0
UID:15533-veranstaltung@par8.ch
DTSTAMP:20260417T083430Z
DESCRIPTION:Kontakt: Service de taxi depuis Tramelan\, appel le jour même
  entre 8h et 9h au 079 502 79 63\n\nWeitere Infos:
  https://www.par8.ch/veranstaltung/15533
SUMMARY:Culte au temple de Sornetan
PRIORITY:5
X-MICROSOFT-CDO-IMPORTANCE:1
CLASS:PUBLIC
END:VEVENT
END:VCALENDAR
