BEGIN:VCALENDAR
PRODID:-//kirchenweb.ch gmbh//veranstaltungsausgabe v2.0//DE
VERSION:2.0
METHOD:PUBLISH
BEGIN:VEVENT
DTSTART:20260426T090000Z
DTEND:20260426T100000Z
LOCATION:Bévilard\, Temple\, Rue du Temple\, 2735 Bévilard
TRANSP:OPAQUE
SEQUENCE:0
UID:15532-veranstaltung@par8.ch
DTSTAMP:20260417T113550Z
DESCRIPTION:Kontakt: Erich Brunner\n\nWeitere Infos:
  https://www.par8.ch/veranstaltung/15532
SUMMARY:Culte au temple de Bévilard
PRIORITY:5
X-MICROSOFT-CDO-IMPORTANCE:1
CLASS:PUBLIC
END:VEVENT
END:VCALENDAR
