BEGIN:VCALENDAR
PRODID:-//kirchenweb.ch gmbh//veranstaltungsausgabe v2.0//DE
VERSION:2.0
METHOD:PUBLISH
BEGIN:VEVENT
DTSTART:20260426T150000Z
DTEND:20260426T160000Z
LOCATION:Haute-Birse\, Eglise de Chaindon\, Route de Chaindon\, 2732
  Reconvilier
TRANSP:OPAQUE
SEQUENCE:0
UID:15531-veranstaltung@par8.ch
DTSTAMP:20251217T075954Z
DESCRIPTION:Culte solidaire\n\nKontakt: Thierry Dominicé\n\nWeitere
  Infos: https://www.par8.ch/veranstaltung/15531
SUMMARY:Culte solidaire au temple de Chaindon
PRIORITY:5
X-MICROSOFT-CDO-IMPORTANCE:1
CLASS:PUBLIC
END:VEVENT
END:VCALENDAR
