BEGIN:VCALENDAR
PRODID:-//kirchenweb.ch gmbh//veranstaltungsausgabe v2.0//DE
VERSION:2.0
METHOD:PUBLISH
BEGIN:VEVENT
DTSTART:20260426T170000Z
DTEND:20260426T180000Z
LOCATION:Grandval. Eglise\, Rue de l’Eglise\, 2745 Grandval
TRANSP:OPAQUE
SEQUENCE:0
UID:15530-veranstaltung@par8.ch
DTSTAMP:20260217T122419Z
DESCRIPTION:Kontakt: Jean-Luc Dubigny\n\nWeitere Infos:
  https://www.par8.ch/veranstaltung/15530
SUMMARY:Célébration de Taizé au temple de Grandval
PRIORITY:5
X-MICROSOFT-CDO-IMPORTANCE:1
CLASS:PUBLIC
END:VEVENT
END:VCALENDAR
