BEGIN:VCALENDAR
PRODID:-//kirchenweb.ch gmbh//veranstaltungsausgabe v2.0//DE
VERSION:2.0
METHOD:PUBLISH
BEGIN:VEVENT
DTSTART:20260426T090000Z
DTEND:20260426T100000Z
LOCATION:Tramelan\, Eglise\, Grand-Rue 146\, 2720 Tramelan
TRANSP:OPAQUE
SEQUENCE:0
UID:15529-veranstaltung@par8.ch
DTSTAMP:20260317T081428Z
DESCRIPTION:Kontakt: Service de taxi depuis Tramelan\, appel le jour même
  entre 9h et 10h au 077 520 48 93\n\nWeitere Infos:
  https://www.par8.ch/veranstaltung/15529
SUMMARY:Culte à l'église de Tramelan
PRIORITY:5
X-MICROSOFT-CDO-IMPORTANCE:1
CLASS:PUBLIC
END:VEVENT
END:VCALENDAR
