BEGIN:VCALENDAR
PRODID:-//kirchenweb.ch gmbh//veranstaltungsausgabe v2.0//DE
VERSION:2.0
METHOD:PUBLISH
BEGIN:VEVENT
DTSTART:20260419T090000Z
DTEND:20260419T100000Z
LOCATION:Salle de paroisse de Sorvilier\, \,  Sorvilier
TRANSP:OPAQUE
SEQUENCE:0
UID:15527-veranstaltung@par8.ch
DTSTAMP:20260311T094132Z
DESCRIPTION:Kontakt: Brigitte Bueche\n\nWeitere Infos:
  https://www.par8.ch/veranstaltung/15527
SUMMARY:Culte à la salle de paroisse de Sorvilier
PRIORITY:5
X-MICROSOFT-CDO-IMPORTANCE:1
CLASS:PUBLIC
END:VEVENT
END:VCALENDAR
