BEGIN:VCALENDAR
PRODID:-//kirchenweb.ch gmbh//veranstaltungsausgabe v2.0//DE
VERSION:2.0
METHOD:PUBLISH
BEGIN:VEVENT
DTSTART:20260403T080000Z
DTEND:20260403T090000Z
LOCATION:Bévilard\, Temple\, Rue du Temple\, 2735 Bévilard
TRANSP:OPAQUE
SEQUENCE:0
UID:15515-veranstaltung@par8.ch
DTSTAMP:20260311T092750Z
DESCRIPTION:Avec la participation du choeur Allegretto\n\nKontakt:
  Jean-Luc Dubigny\n\nWeitere Infos:
  https://www.par8.ch/veranstaltung/15515
SUMMARY:Culte au temple de Bévilard
PRIORITY:5
X-MICROSOFT-CDO-IMPORTANCE:1
CLASS:PUBLIC
END:VEVENT
END:VCALENDAR
