BEGIN:VCALENDAR
PRODID:-//kirchenweb.ch gmbh//veranstaltungsausgabe v2.0//DE
VERSION:2.0
METHOD:PUBLISH
BEGIN:VEVENT
DTSTART;VALUE=DATE:20260514
DTEND;VALUE=DATE:20260515
LOCATION:Lieu à définir\, \,
TRANSP:OPAQUE
SEQUENCE:0
UID:15448-veranstaltung@par8.ch
DTSTAMP:20250710T072016Z
DESCRIPTION:Kontakt: Aline Gagnebin\n\nWeitere Infos:
  https://www.par8.ch/veranstaltung/15448
SUMMARY:catéchisme 11h haut\,
PRIORITY:5
X-MICROSOFT-CDO-IMPORTANCE:1
CLASS:PUBLIC
END:VEVENT
END:VCALENDAR
