BEGIN:VCALENDAR
PRODID:-//kirchenweb.ch gmbh//veranstaltungsausgabe v2.0//DE
VERSION:2.0
METHOD:PUBLISH
BEGIN:VEVENT
DTSTART:20260605T163000Z
DTEND:20260605T180000Z
LOCATION:Bévilard\, Temple\, Rue du Temple\, 2735 Bévilard
TRANSP:OPAQUE
SEQUENCE:0
UID:14713-veranstaltung@par8.ch
DTSTAMP:20250624T145827Z
DESCRIPTION:Célébration-apéro \nPour bien terminer la saison de caté\,
  nous vous proposons un temps de célébration insolite suivi d'un apéro.
  L'occasion de partager un moment sympa juste avant l'été. \n\nAbsences
 \nEn cas d’absence\, MERCI d’avertir l’un-e des responsables\n
 \nKontakt: Céline Ryf\n\n\nWeitere Infos:
  https://www.par8.ch/veranstaltung/14713
SUMMARY:Caté 8H Par8
PRIORITY:5
X-MICROSOFT-CDO-IMPORTANCE:1
CLASS:PUBLIC
END:VEVENT
END:VCALENDAR
