BEGIN:VCALENDAR
PRODID:-//kirchenweb.ch gmbh//veranstaltungsausgabe v2.0//DE
VERSION:2.0
METHOD:PUBLISH
BEGIN:VEVENT
DTSTART:20260422T103000Z
DTEND:20260422T133000Z
LOCATION:Haute-Birse\, Salle de Paroisse\, Rue Bel-Air 11\, 2732
  Reconvilier
TRANSP:OPAQUE
SEQUENCE:0
UID:14703-veranstaltung@par8.ch
DTSTAMP:20260114T094240Z
DESCRIPTION:Repas \nNous partagerons un repas durant cette rencontre.
  Merci à chacune et chacun de venir avec son pique-nique  🥪\n
 \nAbsences\nEn cas d’absence\, MERCI d’avertir l’un-e des
  responsables\n\nKontakt: \n\nCéline Ryf\n\nWeitere Infos:
  https://www.par8.ch/veranstaltung/14703
SUMMARY:Caté 9H Tramelan-Sornetan-Haute-Birse
PRIORITY:5
X-MICROSOFT-CDO-IMPORTANCE:1
CLASS:PUBLIC
END:VEVENT
END:VCALENDAR
