BEGIN:VCALENDAR
PRODID:-//kirchenweb.ch gmbh//veranstaltungsausgabe v2.0//DE
VERSION:2.0
METHOD:PUBLISH
BEGIN:VEVENT
DTSTART:20260508T153000Z
DTEND:20260508T183000Z
LOCATION:Bévilard\, Salle de Paroisse\, Les Côtes 1\, 2735 Bévilard
TRANSP:OPAQUE
SEQUENCE:0
UID:14700-veranstaltung@par8.ch
DTSTAMP:20250624T142026Z
DESCRIPTION:Repas \nPas besoin de pique-nique pour cette rencontre\n
 \nAbsences\nEn cas d’absence\, MERCI d’avertir l’un-e des
  responsables\n\nKontakt: Aline Gagnebin\n\nWeitere Infos:
  https://www.par8.ch/veranstaltung/14700
SUMMARY:Caté 9H Grandval-Moutier-Court-Bévilard
PRIORITY:5
X-MICROSOFT-CDO-IMPORTANCE:1
CLASS:PUBLIC
END:VEVENT
END:VCALENDAR
