BEGIN:VCALENDAR
PRODID:-//kirchenweb.ch gmbh//veranstaltungsausgabe v2.0//DE
VERSION:2.0
METHOD:PUBLISH
BEGIN:VEVENT
DTSTART:20260422T150000Z
DTEND:20260422T170000Z
LOCATION:Tramelan\, Domicile d'Aline Gagnebin\, \, Rue du 26-Mars 42\,
  2720 Tramelan
TRANSP:OPAQUE
SEQUENCE:0
UID:14683-veranstaltung@par8.ch
DTSTAMP:20250623T081929Z
DESCRIPTION:Kontakt: Aline Gagnebin\n\nWeitere Infos:
  https://www.par8.ch/veranstaltung/14683
SUMMARY:catéchisme 11h haut\,
PRIORITY:5
X-MICROSOFT-CDO-IMPORTANCE:1
CLASS:PUBLIC
END:VEVENT
END:VCALENDAR
