BEGIN:VCALENDAR
PRODID:-//kirchenweb.ch gmbh//veranstaltungsausgabe v2.0//DE
VERSION:2.0
METHOD:PUBLISH
BEGIN:VEVENT
DTSTART:20270313T083000Z
DTEND:20270313T110000Z
LOCATION:Centre du Village\, \, 2720 Tramelan
TRANSP:OPAQUE
SEQUENCE:0
UID:11652-veranstaltung@par8.ch
DTSTAMP:20260226T100736Z
DESCRIPTION:Journée d’action pour le droit à l’alimentation\nComment
  pouvons-nous\, en Suisse\, soutenir les agricultrices et agriculteurs du
  Sud dans la défense de leur droit à leurs propres semences ? Nous
  pouvons sensibiliser à ces injustices\, faire preuve de solidarité et
  envoyer des signaux clairs. Comme chaque année\, nous vous proposons des
  roses Fairtrade et des graines pour des prés de fleurs sauvages.\n\nLors
  de la journée d’action\, nous vous invitons à vous engager en faveur
  du droit à l’alimentation. Les recettes seront reversées à
  l’œuvre d’Action de Carême et de l’EPER (source :
  www.voir-et-agir.ch).\n\nKontakt: Sabrina Schafroth\, 032 483 10 11\n
 \nWeitere Infos: https://www.par8.ch/veranstaltung/11652
SUMMARY:Tramelan - Vente de roses Max Havelaar
PRIORITY:5
X-MICROSOFT-CDO-IMPORTANCE:1
CLASS:PUBLIC
END:VEVENT
END:VCALENDAR
