BEGIN:VCALENDAR
PRODID:-//kirchenweb.ch gmbh//veranstaltungsausgabe v2.0//DE
VERSION:2.0
METHOD:PUBLISH
BEGIN:VEVENT
DTSTART:20240326T130000Z
DTEND:20240326T150000Z
LOCATION:Sornetan\, Salle de Paroisse\, Le Rondez 7\, 2716 Sornetan
TRANSP:OPAQUE
SEQUENCE:0
UID:11393-veranstaltung@par8.ch
DTSTAMP:20240322T160627Z
DESCRIPTION:Kontakt: Jean Lesort Louck Talom\n\nWeitere Infos:
  https://www.par8.ch/veranstaltung/11393
SUMMARY:Sornetan - Marche méditative
PRIORITY:5
X-MICROSOFT-CDO-IMPORTANCE:1
CLASS:PUBLIC
END:VEVENT
END:VCALENDAR
