BEGIN:VCALENDAR
PRODID:-//kirchenweb.ch gmbh//veranstaltungsausgabe v2.0//DE
VERSION:2.0
METHOD:PUBLISH
BEGIN:VEVENT
DTSTART:20240326T180000Z
DTEND:20240326T190000Z
LOCATION:Moutier\, Collégiale St Germain\, Ruelle du Château\, 2740
  Moutier
TRANSP:OPAQUE
SEQUENCE:0
UID:11326-veranstaltung@par8.ch
DTSTAMP:20240322T065400Z
DESCRIPTION:Toc toc toc\, qui est là ?\nMéditation avec le pasteur
  Quentin Jeanneret\, Daniel Marquis à l'orgue et Jean-Michel Nobs à la
  trompette\n\n\n\nKontakt: nadine.linder@par8.ch\n\nWeitere Infos:
  https://www.par8.ch/veranstaltung/11326
SUMMARY:Moutier - Montée vers Pâques
PRIORITY:5
X-MICROSOFT-CDO-IMPORTANCE:1
CLASS:PUBLIC
END:VEVENT
END:VCALENDAR
