BEGIN:VCALENDAR
PRODID:-//kirchenweb.ch gmbh//veranstaltungsausgabe v2.0//DE
VERSION:2.0
METHOD:PUBLISH
BEGIN:VEVENT
DTSTART:20240325T180000Z
DTEND:20240325T190000Z
LOCATION:Moutier\, Collégiale St Germain\, Ruelle du Château\, 2740
  Moutier
TRANSP:OPAQUE
SEQUENCE:0
UID:11325-veranstaltung@par8.ch
DTSTAMP:20240403T150403Z
DESCRIPTION:Une place dans la maison du Père\nMéditation et flûte avec
  Véronique Salis Juillerat et Daniel Marquis à l'orgue\n\n\n\nKontakt:
  nadine.linder@par8.ch\n\nWeitere Infos:
  https://www.par8.ch/veranstaltung/11325
SUMMARY:Moutier - Montée vers Pâques
PRIORITY:5
X-MICROSOFT-CDO-IMPORTANCE:1
CLASS:PUBLIC
END:VEVENT
END:VCALENDAR
