BEGIN:VCALENDAR
PRODID:-//kirchenweb.ch gmbh//veranstaltungsausgabe v2.0//DE
VERSION:2.0
METHOD:PUBLISH
BEGIN:VEVENT
DTSTART:20240326T190000Z
DTEND:20240326T210000Z
LOCATION:Haute-Birse\, Maison de Paroisse de Tavannes\, Rue du Petit-Bâle
  25\, 2710 Tavannes
TRANSP:OPAQUE
SEQUENCE:0
UID:11320-veranstaltung@par8.ch
DTSTAMP:20240312T145321Z
DESCRIPTION:Kontakt: \n\nWeitere Infos:
  https://www.par8.ch/veranstaltung/11320
SUMMARY:Soirée Info pour un jardin commaunautaire
PRIORITY:5
X-MICROSOFT-CDO-IMPORTANCE:1
CLASS:PUBLIC
END:VEVENT
END:VCALENDAR
