BEGIN:VCALENDAR
PRODID:-//kirchenweb.ch gmbh//veranstaltungsausgabe v2.0//DE
VERSION:2.0
METHOD:PUBLISH
BEGIN:VEVENT
DTSTART:20240323T180000Z
DTEND:20240323T220000Z
LOCATION:Grandval. Eglise\, Rue de l’Eglise\, 2745 Grandval
TRANSP:OPAQUE
SEQUENCE:0
UID:11208-veranstaltung@par8.ch
DTSTAMP:20240222T084213Z
DESCRIPTION:Kontakt: Liliane Gujer\n\nWeitere Infos:
  https://www.par8.ch/veranstaltung/11208
SUMMARY:Concert soul teens
PRIORITY:5
X-MICROSOFT-CDO-IMPORTANCE:1
CLASS:PUBLIC
END:VEVENT
END:VCALENDAR
