BEGIN:VCALENDAR
PRODID:-//kirchenweb.ch gmbh//veranstaltungsausgabe v2.0//DE
VERSION:2.0
METHOD:PUBLISH
BEGIN:VEVENT
DTSTART:20240308T160000Z
DTEND:20240308T203000Z
LOCATION:Haute-Birse\, Eglise de Chaindon\, \,
TRANSP:OPAQUE
SEQUENCE:0
UID:11193-veranstaltung@par8.ch
DTSTAMP:20240301T091735Z
DESCRIPTION:Kontakt: natacha.ingrosso@par8.ch\n\nWeitere Infos:
  https://www.par8.ch/veranstaltung/11193
SUMMARY:Haute-Birse\, auditon école de musique du Jura bernois
PRIORITY:5
X-MICROSOFT-CDO-IMPORTANCE:1
CLASS:PUBLIC
END:VEVENT
END:VCALENDAR
