BEGIN:VCALENDAR
PRODID:-//kirchenweb.ch gmbh//veranstaltungsausgabe v2.0//DE
VERSION:2.0
METHOD:PUBLISH
BEGIN:VEVENT
DTSTART:20240317T170000Z
DTEND:20240317T183000Z
LOCATION:Tramelan\, Eglise\, Grand-Rue 146\, 2720 Tramelan
TRANSP:OPAQUE
SEQUENCE:0
UID:11185-veranstaltung@par8.ch
DTSTAMP:20240215T095219Z
DESCRIPTION:Kontakt: Liliane Gerber\, 032 487 64 84\n\nWeitere Infos:
  https://www.par8.ch/veranstaltung/11185
SUMMARY:Groupe de Tramelan - Jeûner en Carême
PRIORITY:5
X-MICROSOFT-CDO-IMPORTANCE:1
CLASS:PUBLIC
END:VEVENT
END:VCALENDAR
