BEGIN:VCALENDAR
PRODID:-//kirchenweb.ch gmbh//veranstaltungsausgabe v2.0//DE
VERSION:2.0
METHOD:PUBLISH
BEGIN:VEVENT
DTSTART:20240322T110000Z
DTEND:20240322T123000Z
LOCATION:Maison de Paroisse\, Grandval\, \,
TRANSP:OPAQUE
SEQUENCE:0
UID:11157-veranstaltung@par8.ch
DTSTAMP:20240208T133335Z
DESCRIPTION:Soupe oecuménique de Carême\n\nKontakt:
  nadine.linder@par8.ch\n\nWeitere Infos:
  https://www.par8.ch/veranstaltung/11157
SUMMARY:Grandval - Soupe de Carême
PRIORITY:5
X-MICROSOFT-CDO-IMPORTANCE:1
CLASS:PUBLIC
END:VEVENT
END:VCALENDAR
