BEGIN:VCALENDAR
PRODID:-//kirchenweb.ch gmbh//veranstaltungsausgabe v2.0//DE
VERSION:2.0
METHOD:PUBLISH
BEGIN:VEVENT
DTSTART:20240308T110000Z
DTEND:20240308T123000Z
LOCATION:Maison des Oeuvres\, Moutier\, \,
TRANSP:OPAQUE
SEQUENCE:0
UID:11155-veranstaltung@par8.ch
DTSTAMP:20240208T133421Z
DESCRIPTION:Soupe oecuménique de Carême\n\nKontakt:
  nadine.linder@par8.ch\n\nWeitere Infos:
  https://www.par8.ch/veranstaltung/11155
SUMMARY:Moutier - Soupe de Carême
PRIORITY:5
X-MICROSOFT-CDO-IMPORTANCE:1
CLASS:PUBLIC
END:VEVENT
END:VCALENDAR
