BEGIN:VCALENDAR
PRODID:-//kirchenweb.ch gmbh//veranstaltungsausgabe v2.0//DE
VERSION:2.0
METHOD:PUBLISH
BEGIN:VEVENT
DTSTART:20240314T081500Z
DTEND:20240314T110000Z
LOCATION:Haute-Birse\, Maison de Paroisse de Tavannes\, \,
TRANSP:OPAQUE
SEQUENCE:0
UID:11141-veranstaltung@par8.ch
DTSTAMP:20240206T101752Z
DESCRIPTION:Kontakt: natacha.ingrosso@par8.ch\n\nWeitere Infos:
  https://www.par8.ch/veranstaltung/11141
SUMMARY:Haute-Birse\, òsez la bénédiction
PRIORITY:5
X-MICROSOFT-CDO-IMPORTANCE:1
CLASS:PUBLIC
END:VEVENT
END:VCALENDAR
