BEGIN:VCALENDAR
PRODID:-//kirchenweb.ch gmbh//veranstaltungsausgabe v2.0//DE
VERSION:2.0
METHOD:PUBLISH
BEGIN:VEVENT
DTSTART:20240320T183000Z
DTEND:20240320T193000Z
LOCATION:Malleray\, Eglise catholique St Georges\, \, 2735 Malleray
TRANSP:OPAQUE
SEQUENCE:0
UID:11070-veranstaltung@par8.ch
DTSTAMP:20240125T071310Z
DESCRIPTION:Ces soirées sont organisées par les Eglises catholique et
  protestante de Malleray-Bévilard. \nToutes les prières de Taizé 2024
  ont lieu à l'église catholique de Malleray.\n\nBienvenue à chacune et
  à chacun\n\n\n\nKontakt: isabelle.girod@par8.ch\n\nWeitere Infos:
  https://www.par8.ch/veranstaltung/11070
SUMMARY:Prière de Taizé
PRIORITY:5
X-MICROSOFT-CDO-IMPORTANCE:1
CLASS:PUBLIC
END:VEVENT
END:VCALENDAR
