BEGIN:VCALENDAR
PRODID:-//kirchenweb.ch gmbh//veranstaltungsausgabe v2.0//DE
VERSION:2.0
METHOD:PUBLISH
BEGIN:VEVENT
DTSTART:20240318T070000Z
DTEND:20240318T073000Z
LOCATION:Bévilard\, Temple\, Rue du Temple\, 2735 Bévilard
TRANSP:OPAQUE
SEQUENCE:0
UID:11057-veranstaltung@par8.ch
DTSTAMP:20240123T131834Z
DESCRIPTION:Débuter la semaine en prière et avec d'autres... Accueillir
  la présence de Dieu et s'accueillir les uns les autres...\n\nProgramme
  à télécharger : \n\nLes méditations sont enregistrées\, si vous
  souhaitez les recevoir par WhatsApp\, veuillez contacter le pasteur
  Jean-Luc Dubigny.\nVous pouvez les trouver ici (en faisant défiler le
  menu) : https://www.par8.ch/bevilard_activites\n\nKontakt: Jean-Luc
  Dubigny\n\nWeitere Infos: https://www.par8.ch/veranstaltung/11057
SUMMARY:Méditation du lundi matin
PRIORITY:5
X-MICROSOFT-CDO-IMPORTANCE:1
CLASS:PUBLIC
END:VEVENT
END:VCALENDAR
