BEGIN:VCALENDAR
PRODID:-//kirchenweb.ch gmbh//veranstaltungsausgabe v2.0//DE
VERSION:2.0
METHOD:PUBLISH
BEGIN:VEVENT
DTSTART:20240317T084500Z
DTEND:20240317T103000Z
LOCATION:Haute-Birse\, Maison de Paroisse de Tavannes\, \,
TRANSP:OPAQUE
SEQUENCE:0
UID:11032-veranstaltung@par8.ch
DTSTAMP:20240123T090952Z
DESCRIPTION:Préparation du culte des familles\n\nKontakt: Thierry
  Dominicé\n\nWeitere Infos: https://www.par8.ch/veranstaltung/11032
SUMMARY:Haute-Birse\, rencontre cycle 1
PRIORITY:5
X-MICROSOFT-CDO-IMPORTANCE:1
CLASS:PUBLIC
END:VEVENT
END:VCALENDAR
