BEGIN:VCALENDAR
PRODID:-//kirchenweb.ch gmbh//veranstaltungsausgabe v2.0//DE
VERSION:2.0
METHOD:PUBLISH
BEGIN:VEVENT
DTSTART:20240320T160000Z
DTEND:20240320T200000Z
LOCATION:Haute-Birse\, Eglise de Chaindon\, Route de Chaindon\, 2732
  Reconvilier
TRANSP:OPAQUE
SEQUENCE:0
UID:11028-veranstaltung@par8.ch
DTSTAMP:20240122T113722Z
DESCRIPTION:Kontakt: Reto Gmünder\n\nWeitere Infos:
  https://www.par8.ch/veranstaltung/11028
SUMMARY:Clôture semaine du Jeûne
PRIORITY:5
X-MICROSOFT-CDO-IMPORTANCE:1
CLASS:PUBLIC
END:VEVENT
END:VCALENDAR
