BEGIN:VCALENDAR
PRODID:-//kirchenweb.ch gmbh//veranstaltungsausgabe v2.0//DE
VERSION:2.0
METHOD:PUBLISH
BEGIN:VEVENT
DTSTART:20240309T190000Z
DTEND:20240309T223000Z
LOCATION:Grandval\, Salle de Paroisse\, Rue de l'Eglise 13\,  Grandval
TRANSP:OPAQUE
SEQUENCE:0
UID:10946-veranstaltung@par8.ch
DTSTAMP:20240305T154924Z
DESCRIPTION:Kontakt: Sophie Juillerat\n\nWeitere Infos:
  https://www.par8.ch/veranstaltung/10946
SUMMARY:Représentation Théâtre
PRIORITY:5
X-MICROSOFT-CDO-IMPORTANCE:1
CLASS:PUBLIC
END:VEVENT
END:VCALENDAR
