BEGIN:VCALENDAR
PRODID:-//kirchenweb.ch gmbh//veranstaltungsausgabe v2.0//DE
VERSION:2.0
METHOD:PUBLISH
BEGIN:VEVENT
DTSTART:20240318T190000Z
DTEND:20240318T210000Z
LOCATION:Haute-Birse\, Maison de Paroisse de Tavannes\, \,
TRANSP:OPAQUE
SEQUENCE:0
UID:10905-veranstaltung@par8.ch
DTSTAMP:20240120T124348Z
DESCRIPTION:Les répétitions de la chorale ont lieu les lundis soirs
  selon programme. Pour plus de renseignements\, vous pouvez prendre
  contact avec Isabelle Gueissaz au 079 723 28 65 ou Sandra Moy au 078 741
  36 52.\n\nKontakt: Mme Isabelle Gueissaz 079 723 28 65\nMme Sandra Moy
  078 741 36 52\n\nWeitere Infos: https://www.par8.ch/veranstaltung/10905
SUMMARY:Haute-Birse\, répétition de la chorale de Haute-Birse
PRIORITY:5
X-MICROSOFT-CDO-IMPORTANCE:1
CLASS:PUBLIC
END:VEVENT
END:VCALENDAR
