BEGIN:VCALENDAR
PRODID:-//kirchenweb.ch gmbh//veranstaltungsausgabe v2.0//DE
VERSION:2.0
METHOD:PUBLISH
BEGIN:VEVENT
DTSTART:20240321T130000Z
DTEND:20240321T160000Z
LOCATION:Haute-Birse\, Maison de Paroisse de Tavannes\, \,
TRANSP:OPAQUE
SEQUENCE:0
UID:10745-veranstaltung@par8.ch
DTSTAMP:20240111T091624Z
DESCRIPTION:Kontakt: Mme Béatrice Diacon\n032 481 28 86\n\nWeitere Infos:
  https://www.par8.ch/veranstaltung/10745
SUMMARY:Haute-Birse\, Jeux du jeudi
PRIORITY:5
X-MICROSOFT-CDO-IMPORTANCE:1
CLASS:PUBLIC
END:VEVENT
END:VCALENDAR
