BEGIN:VCALENDAR
PRODID:-//kirchenweb.ch gmbh//veranstaltungsausgabe v2.0//DE
VERSION:2.0
METHOD:PUBLISH
BEGIN:VEVENT
DTSTART:20240319T130000Z
DTEND:20240319T150000Z
LOCATION:Haute-Birse\, Maison de Paroisse de Tavannes\, Rue du Petit-Bâle
  25\, 2710 Tavannes
TRANSP:OPAQUE
SEQUENCE:0
UID:10726-veranstaltung@par8.ch
DTSTAMP:20240111T090657Z
DESCRIPTION:Passez un moment de détente\, de convivialité\, d'échange\,
  en maniant les aiguilles. Pour découvrir ou redécouvrir les travaux à
  l'aiguille.\n\nKontakt: Mme Fabienne Favret-Addor\n079 717 11 67\n
 \nWeitere Infos: https://www.par8.ch/veranstaltung/10726
SUMMARY:Haute-Birse\, Activi-thé bla bla (groupe de couture
PRIORITY:5
X-MICROSOFT-CDO-IMPORTANCE:1
CLASS:PUBLIC
END:VEVENT
END:VCALENDAR
