BEGIN:VCALENDAR
PRODID:-//kirchenweb.ch gmbh//veranstaltungsausgabe v2.0//DE
VERSION:2.0
METHOD:PUBLISH
BEGIN:VEVENT
DTSTART:20240314T110000Z
DTEND:20240314T160000Z
LOCATION:Haute-Birse\, Maison de Paroisse de Tavannes\, \,
TRANSP:OPAQUE
SEQUENCE:0
UID:10714-veranstaltung@par8.ch
DTSTAMP:20240111T085012Z
DESCRIPTION:Repas : Choucroute garnie\nAnimation : Fascinante
  chauve-souris avec Gauvin Saucy\n\nKontakt: Véronique Schweizer 078 713
  86 40\nAnne-Claude Rueff 079 560 91 61\n\nWeitere Infos:
  https://www.par8.ch/veranstaltung/10714
SUMMARY:Rencontres des aîné(e)s
PRIORITY:5
X-MICROSOFT-CDO-IMPORTANCE:1
CLASS:PUBLIC
END:VEVENT
END:VCALENDAR
