BEGIN:VCALENDAR
PRODID:-//kirchenweb.ch gmbh//veranstaltungsausgabe v2.0//DE
VERSION:2.0
METHOD:PUBLISH
BEGIN:VEVENT
DTSTART:20240326T183000Z
DTEND:20240326T191500Z
LOCATION:Tramelan\, Eglise catholique\, Grand-Rue 110\, 2720 Tramelan
TRANSP:OPAQUE
SEQUENCE:0
UID:10691-veranstaltung@par8.ch
DTSTAMP:20240127T105214Z
DESCRIPTION:Une parenthèse en chant et en silence pour se ressourcer dans
  la communion avec les chrétiens de Tramelan.\n\n\nKontakt: Valentin dos
  Santos\, 079 936 97 75\nService de taxi : 078 960 90 40 (appel le mardi
  soir entre 18h et 18h30)\n\nWeitere Infos:
  https://www.par8.ch/veranstaltung/10691
SUMMARY:Tramelan - Prière à la manière de Taizé
PRIORITY:5
X-MICROSOFT-CDO-IMPORTANCE:1
CLASS:PUBLIC
END:VEVENT
END:VCALENDAR
