BEGIN:VCALENDAR
PRODID:-//kirchenweb.ch gmbh//veranstaltungsausgabe v2.0//DE
VERSION:2.0
METHOD:PUBLISH
BEGIN:VEVENT
DTSTART:20240326T163000Z
DTEND:20240326T170000Z
LOCATION:Tramelan\, Eglise\, Grand-Rue 146\, 2720 Tramelan
TRANSP:OPAQUE
SEQUENCE:0
UID:10649-veranstaltung@par8.ch
DTSTAMP:20240319T134239Z
DESCRIPTION:Le Carême est un temps de préparation de quarante jours à
  la fête de Pâques\, coeur de la foi chrétienne\, qui célèbre la
  résurrection du Christ. Ce temps commence le Mercredi des Cendres et
  s'achève le Jeudi Saint. Nous vous proposons de vivre les derniers jours
  du temps de la Passion en chants et en méditation.\n\nKontakt: \n
 \nWeitere Infos: https://www.par8.ch/veranstaltung/10649
SUMMARY:Tramelan - Office de la semaine Sainte
PRIORITY:5
X-MICROSOFT-CDO-IMPORTANCE:1
CLASS:PUBLIC
END:VEVENT
END:VCALENDAR
