BEGIN:VCALENDAR
PRODID:-//kirchenweb.ch gmbh//veranstaltungsausgabe v2.0//DE
VERSION:2.0
METHOD:PUBLISH
BEGIN:VEVENT
DTSTART:20240323T080000Z
DTEND:20240323T150000Z
LOCATION:Tramelan\, Centre paroissial\, Grand-Rue 146a\, 2720 Tramelan
TRANSP:OPAQUE
SEQUENCE:0
UID:10645-veranstaltung@par8.ch
DTSTAMP:20231229T173019Z
DESCRIPTION:Kontakt: Corinne Huguelet\, 032 487 66 72 \nCaroline Bernard\,
  032 487 60 22\n\nWeitere Infos: https://www.par8.ch/veranstaltung/10645
SUMMARY:Marché printanier
PRIORITY:5
X-MICROSOFT-CDO-IMPORTANCE:1
CLASS:PUBLIC
END:VEVENT
END:VCALENDAR
