BEGIN:VCALENDAR
PRODID:-//kirchenweb.ch gmbh//veranstaltungsausgabe v2.0//DE
VERSION:2.0
METHOD:PUBLISH
BEGIN:VEVENT
DTSTART:20240316T083000Z
DTEND:20240316T110000Z
LOCATION:Centre du Village\, \, 2720 Tramelan
TRANSP:OPAQUE
SEQUENCE:0
UID:10644-veranstaltung@par8.ch
DTSTAMP:20240523T073007Z
DESCRIPTION:Kontakt: Sabrina Schafroth\, 032 483 10 11\n\nWeitere Infos:
  https://www.par8.ch/veranstaltung/10644
SUMMARY:Vente de roses Max Havelaar
PRIORITY:5
X-MICROSOFT-CDO-IMPORTANCE:1
CLASS:PUBLIC
END:VEVENT
END:VCALENDAR
