BEGIN:VCALENDAR
PRODID:-//kirchenweb.ch gmbh//veranstaltungsausgabe v2.0//DE
VERSION:2.0
METHOD:PUBLISH
BEGIN:VEVENT
DTSTART:20240322T173000Z
DTEND:20240322T210000Z
LOCATION:Bévilard\, Le Carillon\, Grand Rue\, 2735 Malleray
TRANSP:OPAQUE
SEQUENCE:0
UID:10626-veranstaltung@par8.ch
DTSTAMP:20240524T093649Z
DESCRIPTION:En rapport avec la campagne de Carême. Animation par Jean-Luc
  Dubigny et Daniel Chèvre.\n\nRepas à 18h30 (sur inscription) et
  présentation ouverte à tous à 20h15.\n\n\n\nKontakt:
  isabelle.girod@par8.ch\n\nWeitere Infos:
  https://www.par8.ch/veranstaltung/10626
SUMMARY:Soirée arc-en-ciel
PRIORITY:5
X-MICROSOFT-CDO-IMPORTANCE:1
CLASS:PUBLIC
END:VEVENT
END:VCALENDAR
