BEGIN:VCALENDAR
PRODID:-//kirchenweb.ch gmbh//veranstaltungsausgabe v2.0//DE
VERSION:2.0
METHOD:PUBLISH
BEGIN:VEVENT
DTSTART:20240320T180000Z
DTEND:20240320T193000Z
LOCATION:Haute-Birse\, Eglise de Chaindon\, Route de Chaindon\, 2732
  Reconvilier
TRANSP:OPAQUE
SEQUENCE:0
UID:10612-veranstaltung@par8.ch
DTSTAMP:20240123T072402Z
DESCRIPTION:Kontakt: M. Reto Gmünder\n\nWeitere Infos:
  https://www.par8.ch/veranstaltung/10612
SUMMARY:Haute-Birse\, Jeûne en Carême
PRIORITY:5
X-MICROSOFT-CDO-IMPORTANCE:1
CLASS:PUBLIC
END:VEVENT
END:VCALENDAR
