BEGIN:VCALENDAR
PRODID:-//kirchenweb.ch gmbh//veranstaltungsausgabe v2.0//DE
VERSION:2.0
METHOD:PUBLISH
BEGIN:VEVENT
DTSTART:20240319T180000Z
DTEND:20240319T193000Z
LOCATION:Haute-Birse\, Salle de Paroisse\, Rue Bel-Air 11\, 2732
  Reconvilier
TRANSP:OPAQUE
SEQUENCE:0
UID:10611-veranstaltung@par8.ch
DTSTAMP:20231219T093323Z
DESCRIPTION:Kontakt: \n\nWeitere Infos:
  https://www.par8.ch/veranstaltung/10611
SUMMARY:Jeûne en Carême
PRIORITY:5
X-MICROSOFT-CDO-IMPORTANCE:1
CLASS:PUBLIC
END:VEVENT
END:VCALENDAR
